BEGIN:VCALENDAR
VERSION:2.0
PRODID:-//Friends of Crex - ECPv6.15.20//NONSGML v1.0//EN
CALSCALE:GREGORIAN
METHOD:PUBLISH
X-WR-CALNAME:Friends of Crex
X-ORIGINAL-URL:https://crexmeadows.org
X-WR-CALDESC:Events for Friends of Crex
REFRESH-INTERVAL;VALUE=DURATION:PT1H
X-Robots-Tag:noindex
X-PUBLISHED-TTL:PT1H
BEGIN:VTIMEZONE
TZID:America/Chicago
BEGIN:DAYLIGHT
TZOFFSETFROM:-0600
TZOFFSETTO:-0500
TZNAME:CDT
DTSTART:20250309T080000
END:DAYLIGHT
BEGIN:STANDARD
TZOFFSETFROM:-0500
TZOFFSETTO:-0600
TZNAME:CST
DTSTART:20251102T070000
END:STANDARD
BEGIN:DAYLIGHT
TZOFFSETFROM:-0600
TZOFFSETTO:-0500
TZNAME:CDT
DTSTART:20260308T080000
END:DAYLIGHT
BEGIN:STANDARD
TZOFFSETFROM:-0500
TZOFFSETTO:-0600
TZNAME:CST
DTSTART:20261101T070000
END:STANDARD
BEGIN:DAYLIGHT
TZOFFSETFROM:-0600
TZOFFSETTO:-0500
TZNAME:CDT
DTSTART:20270314T080000
END:DAYLIGHT
BEGIN:STANDARD
TZOFFSETFROM:-0500
TZOFFSETTO:-0600
TZNAME:CST
DTSTART:20271107T070000
END:STANDARD
END:VTIMEZONE
BEGIN:VEVENT
DTSTART;TZID=America/Chicago:20260420T053000
DTEND;TZID=America/Chicago:20260420T100000
DTSTAMP:20260420T142414
CREATED:20250924T161948Z
LAST-MODIFIED:20250924T161948Z
UID:10000516-1776663000-1776679200@crexmeadows.org
SUMMARY:Sharp-tailed Grouse Viewing Blinds
DESCRIPTION:Featured Image by Alan Toczydlowski \nPlease read the entirety of this page and follow all directions. Failure to do so will result in the automatic cancellation of your reservation. \nWant to get up close and personal with sharp-tailed grouse? This is your chance! Once again\, we are happy to offer viewing blinds at Crex Meadows this spring. There are two blinds available this spring. Additional blind opportunities may become available weather permitting. Be sure to check back regularly. \nHow to Reserve a Blind: \n\nRead all FAQs and directions first!\nFind a date with blind availability. We recommend viewing all available dates by clicking here or by viewing our events calendar.\nOnce you have found a date with availability\, purchase one ticket. You only need one ticket for your entire group. Do not buy more than one ticket for the blind. You may only make one reservation per weekend. Additional reservations will be cancelled!\nWait for us to contact you. We will contact you with more information at least a week before your reservation.\nIf you need to cancel your reservation\, please send Lauren Thomas an email at Lauren.finch@wisconsin.gov so we can offer your reservation to someone else. The $5 fee is non-refundable.\nIf there are no available dates\, please email Lauren Thomas at Lauren.finch@wisconsin.gov to be added to our waitlist.\n\nFAQs \n1. What time do I need to get to the blind? \nEveryone must be in the blind at least 45 minutes before sunrise. \n2. When can I leave? \nPlease do not leave the blind until after the birds have left the lek. Our goal is to disturb the birds as little as possible to ensure they continue using the leks. Typically\, the birds leave somewhere around 9:00 a.m. but timing can vary by over an hour in either direction. Do not exit the blind at any time during your viewing experience. \n3. How many people can be in the blind and how often can I reserve a blind? \nBlinds can seat up to 4 people comfortably\, but you may want fewer people in your blind if you plan to bring photography equipment. Anyone may reserve the viewing blinds\, but you are only allowed one reservation per week to allow an opportunity for others to view. You will be asked to provide the names of anyone joining you in the blinds via email after making your reservation. \n4. How do I find my blind? \nOnce you’ve purchased a ticket below\, someone will contact you with details on how to get to the blind you will be sitting in. You will be randomly assigned one of the available blinds. We do not allow people to choose their location unless there are mobility/accessibility concerns. Please contact Lauren Thomas at 715-641-0406 if you have mobility concerns or would like more information about accessing the blinds. We recommend visiting the site in daylight (be sure not to disturb the site in the morning!) before your viewing date so you know where to go and what to expect. \n5. How far do I have to walk to get to the blind? \nBoth blinds require some walking to get to. From the parking areas\, expect to walk around 1/4 mile to get to your blind. While much of the walking is on relatively flat ground\, vegetation can make parts of the walk challenging due to uneven terrain. Please call Lauren Thomas at 715-641-0406 if you have concerns about accessing the blinds. You should make your reservation as usual and a staff member will be in contact with you regarding your concerns. Depending on your situation\, some accommodations may be available to make your trip to the blind possible. \n6. What if it’s raining? Will the birds still be there? \nDepending on the severity of the weather\, the birds may still show up to the lek! While dry and sunny mornings are ideal\, in previous years people still had success viewing on rainy mornings. If conditions seem dangerous please email us so we can decide if rescheduling makes more sense for your group. \n7. What is a lek? \nA lek is an open area that sharp-tailed grouse gather in to perform their mating dances. \n8. Am I guaranteed to see grouse? \nNo\, but your chances to see grouse are very high! Blinds are positioned at leks that are actively and regularly used by grouse. \n9. Should I report my sightings? \nYou do not have to\, but if you would like to record the number of males you see dancing and the number of females you see\, we would love to get that information from you! You can call\, email\, or stop in to report your sightings. \n10. Why do I have to donate $5 to use the blinds? \nThe Friends of Crex and the Wisconsin Sharp-tailed Grouse Society worked together to make these blinds available to the public. Your donation helps us keep these blinds available and also ensures that people who sign up for the blinds are serious about using them. \n11. Why can’t I make a reservation? \nReservations fill quickly so there may be no openings available. You can email us at information@crexmeadows.org to be put on our waitlist. Blinds will become reservable at 12:00 p.m. on February 1. \nBy purchasing a ticket\, you agree to the following rules\, please read carefully! \n\nArrive at the blind at least 45 minutes before sunrise.\nLeave the blind only after the grouse have left the lekking site. Typically\, birds leave somewhere between 8:00 a.m. and 10:00 a.m.\nWhen leaving\, leave quietly and quickly in case the birds try to return to the site.\nThe individual making the reservation is responsible for the conduct of their party. We recommend having all participants read the full FAQ and rules on this page. If members of your party fail to obey these rules\, the blinds will not be available for use to you or the members of your party in the future.\n\nIf you have further questions\, please call Lauren Thomas at 715-641-0406 or email us at Lauren.finch@wisconsin.gov \nPlease read the entirety of this page and follow all directions. Failure to do so will result in the automatic cancellation of your reservation.
URL:https://crexmeadows.org/event/sharp-tailed-grouse-viewing-blinds-64/
LOCATION:Private: Crex Meadows Wildlife Area\, 102 E Crex Ave\, Grantsburg\, Wisconsin\, 54840\, United States
CATEGORIES:Sharp-tailed grouse blinds
ATTACH;FMTTYPE=image/jpeg:https://crexmeadows.org/wp-content/uploads/2025/08/Battle-Scars-Alan-Toczydlowdski-1-scaled.jpg
ORGANIZER;CN="Friends of Crex":MAILTO:information@crexmeadows.org
END:VEVENT
END:VCALENDAR