BEGIN:VCALENDAR
VERSION:2.0
PRODID:-//Friends of Crex - ECPv6.15.20//NONSGML v1.0//EN
CALSCALE:GREGORIAN
METHOD:PUBLISH
X-ORIGINAL-URL:https://crexmeadows.org
X-WR-CALDESC:Events for Friends of Crex
REFRESH-INTERVAL;VALUE=DURATION:PT1H
X-Robots-Tag:noindex
X-PUBLISHED-TTL:PT1H
BEGIN:VTIMEZONE
TZID:America/Chicago
BEGIN:DAYLIGHT
TZOFFSETFROM:-0600
TZOFFSETTO:-0500
TZNAME:CDT
DTSTART:20250309T080000
END:DAYLIGHT
BEGIN:STANDARD
TZOFFSETFROM:-0500
TZOFFSETTO:-0600
TZNAME:CST
DTSTART:20251102T070000
END:STANDARD
BEGIN:DAYLIGHT
TZOFFSETFROM:-0600
TZOFFSETTO:-0500
TZNAME:CDT
DTSTART:20260308T080000
END:DAYLIGHT
BEGIN:STANDARD
TZOFFSETFROM:-0500
TZOFFSETTO:-0600
TZNAME:CST
DTSTART:20261101T070000
END:STANDARD
BEGIN:DAYLIGHT
TZOFFSETFROM:-0600
TZOFFSETTO:-0500
TZNAME:CDT
DTSTART:20270314T080000
END:DAYLIGHT
BEGIN:STANDARD
TZOFFSETFROM:-0500
TZOFFSETTO:-0600
TZNAME:CST
DTSTART:20271107T070000
END:STANDARD
END:VTIMEZONE
BEGIN:VEVENT
DTSTART;TZID=America/Chicago:20260225T180000
DTEND;TZID=America/Chicago:20260225T190000
DTSTAMP:20260422T073119
CREATED:20260205T171832Z
LAST-MODIFIED:20260205T171832Z
UID:10000540-1772042400-1772046000@crexmeadows.org
SUMMARY:Crex Nature Book Club- Where Do Camels Belong? by Ken Thompson
DESCRIPTION:Join us virtually or in person the 4th Wednesday of each month for a nature-themed book club! (Dates that conflict with holidays or are close to holidays will be changed). \nTicket sales close 6 weeks before the meeting. You only need to purchase a ticket if you need a copy of the book supplied for you. The $15 ticket fee covers the cost of the book. If you want to obtain the book on your own\, please choose the free RSVP instead of purchasing a ticket. \nZoom links will be sent directly to your email when you RSVP/purchase a ticket. A link to the book club meeting will also be available on this page when the book club meeting begins. \nAbout the book… \n“Where do camels belong? You may be surprised to learn that they evolved and lived for tens of millions of years in North America-and also that the leek\, national symbol of Wales\, was a Roman import to Britain\, as were chickens\, rabbits and pheasants. These classic examples highlight the issues of “native” and “invasive” species. We have all heard the horror stories of invasives. But do we need to fear invaders? \nIn this controversial book\, Ken Thompson asks: Why do very few introduced species succeed\, why do so few of them go on to cause trouble\, and what is the real cost of invasions? He discusses\, too\, whether fear of invasive species could be getting in the way of conserving biodiversity and responding to climate change.” \nQuestions? Call us at 715-463-2739 or email information@crexmeadows.org
URL:https://crexmeadows.org/event/crex-nature-book-club-where-do-camels-belong-by-ken-thompson/
LOCATION:Crex Meadows Meeting & Gathering Hall\, 102 E Crex Ave\, Grantsburg\, 54840\, United States
CATEGORIES:Book Club
ATTACH;FMTTYPE=image/jpeg:https://crexmeadows.org/wp-content/uploads/2026/02/where-do-camels-belong-picture.jpg
ORGANIZER;CN="Friends of Crex":MAILTO:information@crexmeadows.org
END:VEVENT
END:VCALENDAR