BEGIN:VCALENDAR
VERSION:2.0
PRODID:-//Friends of Crex - ECPv6.15.20//NONSGML v1.0//EN
CALSCALE:GREGORIAN
METHOD:PUBLISH
X-WR-CALNAME:Friends of Crex
X-ORIGINAL-URL:https://crexmeadows.org
X-WR-CALDESC:Events for Friends of Crex
REFRESH-INTERVAL;VALUE=DURATION:PT1H
X-Robots-Tag:noindex
X-PUBLISHED-TTL:PT1H
BEGIN:VTIMEZONE
TZID:America/Chicago
BEGIN:DAYLIGHT
TZOFFSETFROM:-0600
TZOFFSETTO:-0500
TZNAME:CDT
DTSTART:20250309T080000
END:DAYLIGHT
BEGIN:STANDARD
TZOFFSETFROM:-0500
TZOFFSETTO:-0600
TZNAME:CST
DTSTART:20251102T070000
END:STANDARD
BEGIN:DAYLIGHT
TZOFFSETFROM:-0600
TZOFFSETTO:-0500
TZNAME:CDT
DTSTART:20260308T080000
END:DAYLIGHT
BEGIN:STANDARD
TZOFFSETFROM:-0500
TZOFFSETTO:-0600
TZNAME:CST
DTSTART:20261101T070000
END:STANDARD
BEGIN:DAYLIGHT
TZOFFSETFROM:-0600
TZOFFSETTO:-0500
TZNAME:CDT
DTSTART:20270314T080000
END:DAYLIGHT
BEGIN:STANDARD
TZOFFSETFROM:-0500
TZOFFSETTO:-0600
TZNAME:CST
DTSTART:20271107T070000
END:STANDARD
END:VTIMEZONE
BEGIN:VEVENT
DTSTART;TZID=America/Chicago:20260422T180000
DTEND;TZID=America/Chicago:20260422T190000
DTSTAMP:20260420T110727
CREATED:20260205T172919Z
LAST-MODIFIED:20260205T172919Z
UID:10000541-1776880800-1776884400@crexmeadows.org
SUMMARY:Crex Nature Book Club- A Woman Among Wolves by Diane K Boyd
DESCRIPTION:Join us virtually or in person the 4th Wednesday of each month for a nature-themed book club! (Dates that conflict with holidays or are close to holidays will be changed). \nTicket sales close 6 weeks before the meeting. You only need to purchase a ticket if you need a copy of the book supplied for you. The $15 ticket fee covers the cost of the book. If you want to obtain the book on your own\, please choose the free RSVP instead of purchasing a ticket. \nZoom links will be sent directly to your email when you RSVP/purchase a ticket. A link to the book club meeting will also be available on this page when the book club meeting begins. \nAbout the book… \n“Called the Jane Goodall of wolves\, world-renowned wildlife biologist Diane Boyd has spent four decades studying and advocating for wolves in the wilds of Montana near Glacier National Park. When she started in the 1970s\, she was the only female biologist in the United States researching and radio-collaring wild wolves. With her two dogs for company\, she faced the rigors of the Montana winter in an isolated cabin without running water or electricity. \nBoyd fearlessly forded icy rivers\, strapped on skis to navigate thick stands of lodgepole pine\, and monitored packs from the air in a tiny bush plane that skimmed the treetops so she could count wolves and see what they were feeding on. She faced down grizzly bears\, mountain lions\, wolverines – and the occasional trapper – as she stalked her quarry: a handful of wolves that were making their way south from Canada into Montana. Resilient and resourceful\, she devised her own trapping methods and negotiated with locals as wolf populations grew from the first natural colonizer to more than 3\,000 wolves in the West today. \nIn this captivating book\, Boyd takes the reader on a wild ride from the early days of wolf research to the present-day challenges of wolf management across the globe\, highlighting her interactions with an apex predator that captured her heart and her undying admiration. Her writing resonates with her indomitable spirit as she explores the intricate balance of human and wolf coexistence.” \nQuestions? Call us at 715-463-2739 or email information@crexmeadows.org
URL:https://crexmeadows.org/event/crex-nature-book-club-a-woman-among-wolves-by-diane-k-boyd/
LOCATION:Crex Meadows Meeting & Gathering Hall\, 102 E Crex Ave\, Grantsburg\, 54840\, United States
CATEGORIES:Book Club
ATTACH;FMTTYPE=image/jpeg:https://crexmeadows.org/wp-content/uploads/2026/02/woman-among-wolves-picture.jpg
ORGANIZER;CN="Friends of Crex":MAILTO:information@crexmeadows.org
END:VEVENT
END:VCALENDAR